BEGIN:VCALENDAR
VERSION:2.0
PRODID:-//Institute for Nonprofit News - ECPv6.15.20//NONSGML v1.0//EN
CALSCALE:GREGORIAN
METHOD:PUBLISH
X-WR-CALNAME:Institute for Nonprofit News
X-ORIGINAL-URL:https://inn.org
X-WR-CALDESC:Events for Institute for Nonprofit News
REFRESH-INTERVAL;VALUE=DURATION:PT1H
X-Robots-Tag:noindex
X-PUBLISHED-TTL:PT1H
BEGIN:VTIMEZONE
TZID:UTC
BEGIN:STANDARD
TZOFFSETFROM:+0000
TZOFFSETTO:+0000
TZNAME:UTC
DTSTART:20220101T000000
END:STANDARD
END:VTIMEZONE
BEGIN:VTIMEZONE
TZID:America/Los_Angeles
BEGIN:DAYLIGHT
TZOFFSETFROM:-0800
TZOFFSETTO:-0700
TZNAME:PDT
DTSTART:20220313T100000
END:DAYLIGHT
BEGIN:STANDARD
TZOFFSETFROM:-0700
TZOFFSETTO:-0800
TZNAME:PST
DTSTART:20221106T090000
END:STANDARD
BEGIN:DAYLIGHT
TZOFFSETFROM:-0800
TZOFFSETTO:-0700
TZNAME:PDT
DTSTART:20230312T100000
END:DAYLIGHT
BEGIN:STANDARD
TZOFFSETFROM:-0700
TZOFFSETTO:-0800
TZNAME:PST
DTSTART:20231105T090000
END:STANDARD
BEGIN:DAYLIGHT
TZOFFSETFROM:-0800
TZOFFSETTO:-0700
TZNAME:PDT
DTSTART:20240310T100000
END:DAYLIGHT
BEGIN:STANDARD
TZOFFSETFROM:-0700
TZOFFSETTO:-0800
TZNAME:PST
DTSTART:20241103T090000
END:STANDARD
END:VTIMEZONE
BEGIN:VEVENT
DTSTART;TZID=UTC:20230206T100000
DTEND;TZID=UTC:20230206T110000
DTSTAMP:20260420T165359
CREATED:20221203T002042Z
LAST-MODIFIED:20230130T184411Z
UID:10001805-1675677600-1675681200@inn.org
SUMMARY:Collaborations Office Hours
DESCRIPTION:Whether you’re new to collaborative journalism or looking to take your existing partnerships to the next level\, join Director of Collaborations Bridget Thoreson to discuss the best approaches for your collaborative work. \nMore dates and times may be available on Bridget’s schedule. Find a time that works for you.
URL:https://inn.org/event/collaborations-office-hours/2023-02-06/
END:VEVENT
BEGIN:VEVENT
DTSTART;TZID=America/Los_Angeles:20230206T120000
DTEND;TZID=America/Los_Angeles:20230206T130000
DTSTAMP:20260420T165359
CREATED:20221114T203440Z
LAST-MODIFIED:20230308T125305Z
UID:10002073-1675684800-1675688400@inn.org
SUMMARY:Network Philanthropy Office Hours with Jill Kunishima (Members Only)
DESCRIPTION:Learn more about individual giving and overall fundraising strategy during our coaching office hours with Jill Kunishima who heads JMK Consulting with more than 15 years of professional fundraising experience under her belt. \nBook a time. \nAbout Jill \nJill Kunishima heads JMK Consulting as a passionate\, resourceful and adaptable leader with 15+ years of professional fundraising experience in fast-paced\, growing and demanding work environments. She believes that fund development can help realize the society we want for ourselves and future generations\, and that working with all types of people in mission-focused organizations that value impact\, equity and a hunger for positive change is how this comes together. \nJill has worked with a diverse array of organizations\, and has raised millions of dollars in service of their respective missions and visions. \nRegistration is only open to active members of INN and is available on a first-come\, first-serve basis.
URL:https://inn.org/event/network-philanthropy-office-hours-with-jill-kunishima/2023-02-06/
END:VEVENT
END:VCALENDAR